View In:
ArcGIS JavaScript
ArcGIS Online Map Viewer
ArcGIS Earth
ArcMap
View Footprint In:
ArcGIS Online Map Viewer
Service Description: Ridgewood_2021_Ortho_Imagery
Name: Ridgewood_2021_Ortho_Imagery
Description:
Single Fused Map Cache: false
Extent:
XMin: 573900.00034
YMin: 768126.00002
XMax: 611400.00034
YMax: 803126.00002
Spatial Reference: PROJCS["NAD_1983_New_Jersey",GEOGCS["GCS_North_American_1983",DATUM["D_North_American_1983",SPHEROID["GRS_1980",6378137.0,298.257222101]],PRIMEM["Greenwich",0.0],UNIT["Degree",0.0174532925199433]],PROJECTION["Transverse_Mercator"],PARAMETER["false_easting",492125.0],PARAMETER["false_northing",0.0],PARAMETER["central_meridian",-74.5],PARAMETER["scale_factor",0.9999],PARAMETER["latitude_of_origin",38.83333333333334],UNIT["Foot_US",0.3048006096012192]]
Initial Extent:
XMin: 573900.00034
YMin: 768126.00002
XMax: 611400.00034
YMax: 803126.00002
Spatial Reference: PROJCS["NAD_1983_New_Jersey",GEOGCS["GCS_North_American_1983",DATUM["D_North_American_1983",SPHEROID["GRS_1980",6378137.0,298.257222101]],PRIMEM["Greenwich",0.0],UNIT["Degree",0.0174532925199433]],PROJECTION["Transverse_Mercator"],PARAMETER["false_easting",492125.0],PARAMETER["false_northing",0.0],PARAMETER["central_meridian",-74.5],PARAMETER["scale_factor",0.9999],PARAMETER["latitude_of_origin",38.83333333333334],UNIT["Foot_US",0.3048006096012192]]
Full Extent:
XMin: 573900.00034
YMin: 768126.00002
XMax: 611400.00034
YMax: 803126.00002
Spatial Reference: PROJCS["NAD_1983_New_Jersey",GEOGCS["GCS_North_American_1983",DATUM["D_North_American_1983",SPHEROID["GRS_1980",6378137.0,298.257222101]],PRIMEM["Greenwich",0.0],UNIT["Degree",0.0174532925199433]],PROJECTION["Transverse_Mercator"],PARAMETER["false_easting",492125.0],PARAMETER["false_northing",0.0],PARAMETER["central_meridian",-74.5],PARAMETER["scale_factor",0.9999],PARAMETER["latitude_of_origin",38.83333333333334],UNIT["Foot_US",0.3048006096012192]]
Pixel Size X: 0.25
Pixel Size Y: 0.25
Band Count: 3
Pixel Type: U8
RasterFunction Infos: {"rasterFunctionInfos": [{
"name": "None",
"description": "",
"help": ""
}]}
Mensuration Capabilities: Basic
Has Histograms: true
Has Colormap: false
Has Multi Dimensions : false
Rendering Rule:
Min Scale: 0
Max Scale: 0
Copyright Text:
Service Data Type: esriImageServiceDataTypeRGB
Min Values: 0, 0, 0
Max Values: 255, 255, 255
Mean Values: 183.45319232276, 178.79670975323, 174.87661574618
Standard Deviation Values: 73.619254388499, 78.326642109969, 82.256015877536
Object ID Field:
Fields:
None
Default Mosaic Method: Center
Allowed Mosaic Methods:
SortField:
SortValue: null
Mosaic Operator: First
Default Compression Quality: 75
Default Resampling Method: Bilinear
Max Record Count: null
Max Image Height: 4100
Max Image Width: 15000
Max Download Image Count: null
Max Mosaic Image Count: null
Allow Raster Function: true
Allow Copy: true
Allow Analysis: true
Allow Compute TiePoints: false
Supports Statistics: false
Supports Advanced Queries: false
Use StandardizedQueries: true
Raster Type Infos:
Name: Raster Dataset
Description: Supports all ArcGIS Raster Datasets
Help:
Has Raster Attribute Table: false
Edit Fields Info: null
Ownership Based AccessControl For Rasters: null
Child Resources:
Info
Histograms
Statistics
Key Properties
Legend
Raster Function Infos
Supported Operations:
Export Image
Identify
Measure
Compute Histograms
Compute Statistics Histograms
Get Samples
Compute Class Statistics
Query Boundary
Compute Pixel Location
Compute Angles
Validate
Project