{
 "currentVersion": 10.91,
 "serviceDescription": "Ridgewood_2021_Ortho_Imagery",
 "name": "Ridgewood_2021_Ortho_Imagery",
 "description": "",
 "extent": {
  "xmin": 573900.00034,
  "ymin": 768126.00002,
  "xmax": 611400.00034,
  "ymax": 803126.00002,
  "spatialReference": {
   "wkt": "PROJCS[\"NAD_1983_New_Jersey\",GEOGCS[\"GCS_North_American_1983\",DATUM[\"D_North_American_1983\",SPHEROID[\"GRS_1980\",6378137.0,298.257222101]],PRIMEM[\"Greenwich\",0.0],UNIT[\"Degree\",0.0174532925199433]],PROJECTION[\"Transverse_Mercator\"],PARAMETER[\"false_easting\",492125.0],PARAMETER[\"false_northing\",0.0],PARAMETER[\"central_meridian\",-74.5],PARAMETER[\"scale_factor\",0.9999],PARAMETER[\"latitude_of_origin\",38.83333333333334],UNIT[\"Foot_US\",0.3048006096012192]]"
  }
 },
 "initialExtent": {
  "xmin": 573900.00034,
  "ymin": 768126.00002,
  "xmax": 611400.00034,
  "ymax": 803126.00002,
  "spatialReference": {
   "wkt": "PROJCS[\"NAD_1983_New_Jersey\",GEOGCS[\"GCS_North_American_1983\",DATUM[\"D_North_American_1983\",SPHEROID[\"GRS_1980\",6378137.0,298.257222101]],PRIMEM[\"Greenwich\",0.0],UNIT[\"Degree\",0.0174532925199433]],PROJECTION[\"Transverse_Mercator\"],PARAMETER[\"false_easting\",492125.0],PARAMETER[\"false_northing\",0.0],PARAMETER[\"central_meridian\",-74.5],PARAMETER[\"scale_factor\",0.9999],PARAMETER[\"latitude_of_origin\",38.83333333333334],UNIT[\"Foot_US\",0.3048006096012192]]"
  }
 },
 "fullExtent": {
  "xmin": 573900.00034,
  "ymin": 768126.00002,
  "xmax": 611400.00034,
  "ymax": 803126.00002,
  "spatialReference": {
   "wkt": "PROJCS[\"NAD_1983_New_Jersey\",GEOGCS[\"GCS_North_American_1983\",DATUM[\"D_North_American_1983\",SPHEROID[\"GRS_1980\",6378137.0,298.257222101]],PRIMEM[\"Greenwich\",0.0],UNIT[\"Degree\",0.0174532925199433]],PROJECTION[\"Transverse_Mercator\"],PARAMETER[\"false_easting\",492125.0],PARAMETER[\"false_northing\",0.0],PARAMETER[\"central_meridian\",-74.5],PARAMETER[\"scale_factor\",0.9999],PARAMETER[\"latitude_of_origin\",38.83333333333334],UNIT[\"Foot_US\",0.3048006096012192]]"
  }
 },
 "hasMultidimensions": false,
 "pixelSizeX": 0.25,
 "pixelSizeY": 0.25,
 "datasetFormat": "MrSID",
 "uncompressedSize": 63000000000,
 "blockWidth": 1024,
 "blockHeight": 128,
 "compressionType": "Wavelet (MG3)",
 "bandNames": [
  "Band_1",
  "Band_2",
  "Band_3"
 ],
 "allowCopy": true,
 "allowAnalysis": true,
 "bandCount": 3,
 "pixelType": "U8",
 "minPixelSize": 0,
 "maxPixelSize": 0,
 "copyrightText": "",
 "serviceDataType": "esriImageServiceDataTypeRGB",
 "serviceSourceType": "esriImageServiceSourceTypeDataset",
 "minValues": [
  0,
  0,
  0
 ],
 "maxValues": [
  255,
  255,
  255
 ],
 "meanValues": [
  183.45319232276,
  178.79670975323,
  174.87661574618
 ],
 "stdvValues": [
  73.619254388499,
  78.326642109969,
  82.256015877536
 ],
 "objectIdField": "",
 "fields": [],
 "capabilities": "Image,Metadata,Mensuration",
 "defaultMosaicMethod": "Center",
 "allowedMosaicMethods": "",
 "sortField": "",
 "sortValue": null,
 "sortAscending": true,
 "mosaicOperator": "First",
 "defaultCompressionQuality": 75,
 "defaultResamplingMethod": "Bilinear",
 "maxImageHeight": 4100,
 "maxImageWidth": 15000,
 "allowRasterFunction": true,
 "rasterFunctionInfos": [
  {
   "name": "None",
   "description": "",
   "help": ""
  }
 ],
 "rasterTypeInfos": [
  {
   "name": "Raster Dataset",
   "description": "Supports all ArcGIS Raster Datasets",
   "help": ""
  }
 ],
 "mensurationCapabilities": "Basic",
 "hasHistograms": true,
 "hasColormap": false,
 "hasRasterAttributeTable": false,
 "minScale": 0,
 "maxScale": 0,
 "exportTilesAllowed": false,
 "supportsStatistics": false,
 "supportsAdvancedQueries": false,
 "editFieldsInfo": null,
 "ownershipBasedAccessControlForRasters": null,
 "allowComputeTiePoints": false,
 "useStandardizedQueries": true,
 "advancedQueryCapabilities": {
  "useStandardizedQueries": true,
  "supportsStatistics": false,
  "supportsOrderBy": false,
  "supportsDistinct": false,
  "supportsPagination": false
 },
 "spatialReference": {
  "wkt": "PROJCS[\"NAD_1983_New_Jersey\",GEOGCS[\"GCS_North_American_1983\",DATUM[\"D_North_American_1983\",SPHEROID[\"GRS_1980\",6378137.0,298.257222101]],PRIMEM[\"Greenwich\",0.0],UNIT[\"Degree\",0.0174532925199433]],PROJECTION[\"Transverse_Mercator\"],PARAMETER[\"false_easting\",492125.0],PARAMETER[\"false_northing\",0.0],PARAMETER[\"central_meridian\",-74.5],PARAMETER[\"scale_factor\",0.9999],PARAMETER[\"latitude_of_origin\",38.83333333333334],UNIT[\"Foot_US\",0.3048006096012192]]"
 }
}
